BEGIN:VCALENDAR
VERSION:2.0
PRODID:-//hacksw/handcal//NONSGML v1.0//EN
BEGIN:VEVENT
DTSTART:20250120T080000Z
DTEND:20250120T163000Z
LOCATION:Cité Audacieuse  \n9, Rue de Vaugirard \n75006 PARIS
ORGANIZER;CN=Gabriela Belaid - CentraleSupelec Au Féminin (CSA):MAILTO:gabriela.belaid@centraliens.net
SUMMARY:Hackathon contre le sexisme : Agissons ensemble  le 20 janvier à la Cité Audacieuse
DESCRIPTION:𝐇𝐚𝐜𝐤𝐚𝐭𝐡𝐨𝐧 𝐜𝐨𝐧𝐭𝐫𝐞 𝐥𝐞 𝐬𝐞𝐱𝐢𝐬𝐦𝐞 : 𝐀𝐠𝐢𝐬𝐬𝐨𝐧𝐬 𝐞𝐧𝐬𝐞𝐦𝐛𝐥𝐞 𝐥𝐞 𝟐𝟎 𝐣𝐚𝐧𝐯𝐢𝐞𝐫 𝐚̀ 𝐥𝐚 La Cité Audacieuse !\nDans le cadre de la Journée nationale contre le sexisme, le Cercle Olympe de Gouges, Orange, et leurs...
URL:https://association.centralesupelec-alumni.com/fr/group/centralesupelec-au-feminin-csa/73/calendar/hackathon-contre-le-sexisme-agissons-ensemble-le-20-janvier-a-la-cite-audacieuse/2025/01/20/8639
BEGIN:VALARM
TRIGGER:-P0DT1H0M0S
ACTION:DISPLAY
END:VALARM
END:VEVENT
END:VCALENDAR