BEGIN:VCALENDAR
VERSION:2.0
PRODID:-//hacksw/handcal//NONSGML v1.0//EN
BEGIN:VEVENT
DTSTART:20250116T190000Z
DTEND:20250116T220000Z
LOCATION:Le Coq Gourmand \n39, Rue Fort Notre Dame \n13001 MARSEILLE
ORGANIZER;CN=Philippe Cabrit - Provence (CSA):MAILTO:philippe.cabrit@centralesupelec-alumni.com
SUMMARY:Soirée galette des rois & accueil des jeunes diplômés et nouveaux arrivants en Provence
DESCRIPTION:L'Intergroupe des Centraliens et Supélec en Provence a le plaisir de t'inviter à la soirée conviviale d’accueil des jeunes diplômés et des nouveaux arrivants en Provence le jeudi 16 janvier 2025 à 20 ...
URL:https://association.centralesupelec-alumni.com/fr/group/provence-csa/347/calendar/soiree-galette-des-rois-accueil-des-jeunes-diplomes-et-nouveaux-arrivants-en-provence/2025/01/16/8634
BEGIN:VALARM
TRIGGER:-P0DT1H0M0S
ACTION:DISPLAY
END:VALARM
END:VEVENT
END:VCALENDAR