BEGIN:VCALENDAR
VERSION:2.0
PRODID:-//hacksw/handcal//NONSGML v1.0//EN
BEGIN:VEVENT
DTSTART:20250329T193000Z
DTEND:20250329T220000Z
LOCATION:Amphithéâtre salle 3000 de Lyon \n1, Quai Charles de Gaulle \n69006 LYON
ORGANIZER;CN=Quentin Trouillet - Lyon (CSA):MAILTO:quentin.trouillet@gmail.com
SUMMARY:750 voix pour les plus belles chansons françaises à l’amphithéâtre salle 3000 de Lyon
DESCRIPTION:Amies et amis de la chansonnette, cher(e)s camarades,Nous avons le plaisir de vous inviter à un événement musical unique qui ravira les amateurs de belles chansons françaises :🎶 Un concert grandiose...
URL:https://association.centralesupelec-alumni.com/fr/group/lyon-csa/299/calendar/750-voix-pour-les-plus-belles-chansons-francaises-a-l-amphitheatre-salle-3000-de-lyon/2025/03/29/8629
BEGIN:VALARM
TRIGGER:-P0DT1H0M0S
ACTION:DISPLAY
END:VALARM
END:VEVENT
END:VCALENDAR