BEGIN:VCALENDAR
VERSION:2.0
PRODID:-//hacksw/handcal//NONSGML v1.0//EN
BEGIN:VEVENT
DTSTART:20250117T070000Z
DTEND:20250117T090000Z
LOCATION:Maison CentraleSupélec \n8, Rue Jean Goujon \n75008 PARIS
ORGANIZER;CN=CentraleSupélec Alumni:MAILTO:csa-alumni@centralesupelec-alumni.com
SUMMARY:Face à Face avec Martin Sion (ECP 90) - Président d'ArianeGroup
DESCRIPTION:\nDiplômé de l'École Centrale de Paris, Martin Sion est entré en 1990 à la Société Européenne de propulsion (SEP) qui lui confie différents postes en ingénierie après un séjour aux Sandia National...
URL:https://association.centralesupelec-alumni.com/fr/event/face-a-face-avec-martin-sion-ecp-90-president-d-arianegroup/2025/01/17/8626
BEGIN:VALARM
TRIGGER:-P0DT1H0M0S
ACTION:DISPLAY
END:VALARM
END:VEVENT
END:VCALENDAR