BEGIN:VCALENDAR
VERSION:2.0
PRODID:-//hacksw/handcal//NONSGML v1.0//EN
BEGIN:VEVENT
DTSTART:20250325T170000Z
DTEND:20250325T183000Z
LOCATION:
ORGANIZER;CN=Jacqueline Pasdeloup:MAILTO:jacqueline@asso-supelec.org
SUMMARY:Négocier avec son entreprise son départ à la retraite
DESCRIPTION:\nEn collaboration avec l'Association Polytechnique \nChoisissez et mettez en œuvre la meilleure option de départ\nVous avez l’âge et les trimestres requis pour partir prochainement en retraite ?...
URL:https://association.centralesupelec-alumni.com/fr/event/negocier-avec-son-entreprise-son-depart-a-la-retraite/2025/03/25/8624
BEGIN:VALARM
TRIGGER:-P0DT1H0M0S
ACTION:DISPLAY
END:VALARM
END:VEVENT
END:VCALENDAR