BEGIN:VCALENDAR
VERSION:2.0
PRODID:-//hacksw/handcal//NONSGML v1.0//EN
BEGIN:VEVENT
DTSTART:20250114T090000Z
DTEND:20250114T110000Z
LOCATION:AX - Salle Caroline Aigle  (Maison des Polytechniciens) \n12, Rue de Poitiers \n75007 PARIS
ORGANIZER;CN=Jacqueline Pasdeloup:MAILTO:jacqueline@asso-supelec.org
SUMMARY:Optimiser sa fin de carrière et constituer son dossier de retraite
DESCRIPTION:\nEn collaboration avec l'Association Polytechnique \n AX Carrières et CS Carrières vous propose à un atelier sur le système de retraite.\nAu programme de cet atelier : 1. Introduction historique...
URL:https://association.centralesupelec-alumni.com/fr/event/-optimiser-sa-fin-de-carriere-et-constituer-son-dossier-de-retraite/2025/01/14/8621
BEGIN:VALARM
TRIGGER:-P0DT1H0M0S
ACTION:DISPLAY
END:VALARM
END:VEVENT
END:VCALENDAR