BEGIN:VCALENDAR
VERSION:2.0
PRODID:-//hacksw/handcal//NONSGML v1.0//EN
BEGIN:VEVENT
DTSTART:20250115T183000Z
DTEND:20250115T220000Z
LOCATION:Église protestante française de Londres \nFrench Protestant Church, 8-9 Soho Square \nW1D 3QD London
ORGANIZER;CN=Christophe Wakim - Grande-Bretagne (CSA):MAILTO:christophe.wakim@gmail.com
SUMMARY:CSA GB | Mercredi 15 Janvier 2025 | Nouvel An et Galette des Rois | Eglise Protestante de Londres, SOHO
DESCRIPTION:CentraleSupélec Alumni Grande-Bretagne a le grand plaisir de démarrer la nouvelle année 2025,  avec sa soirée Galette des Reines et des Rois,le Mercredi 15 janvier 2025 à partir de 18h30. Église...
URL:https://association.centralesupelec-alumni.com/fr/group/grande-bretagne-csa/265/calendar/csa-gb-mercredi-15-janvier-2025-nouvel-an-et-galette-des-rois-eglise-protestante-de-londres-soho/2025/01/15/8620
BEGIN:VALARM
TRIGGER:-P0DT1H0M0S
ACTION:DISPLAY
END:VALARM
END:VEVENT
END:VCALENDAR