BEGIN:VCALENDAR
VERSION:2.0
PRODID:-//hacksw/handcal//NONSGML v1.0//EN
BEGIN:VEVENT
DTSTART:20241218T163000Z
DTEND:20241218T180000Z
LOCATION:Forum du Lumen \n8, Avenue des Sciences \n91190 GIF-SUR-YVETTE
ORGANIZER;CN=Irina Jaubert - Économie Sociale & Solidaire (CSA):MAILTO:irina.jaubert@mailo.com
SUMMARY:"Café Frappé   L'écologie fait des bulles! La BD, un bon moyen pour alerter?"
DESCRIPTION:"En quoi la BD est-elle un médium adapté pour parler d'écologie et de science?À la fois facile d’accès et sophistiquée, mise en images et mise en récit, petite histoire et grande fable, la bande...
URL:https://association.centralesupelec-alumni.com/fr/group/economie-sociale-solidaire-csa/69/calendar/-cafe-frappe-l-ecologie-fait-des-bulles-la-bd-un-bon-moyen-pour-alerter/2024/12/18/8614
BEGIN:VALARM
TRIGGER:-P0DT1H0M0S
ACTION:DISPLAY
END:VALARM
END:VEVENT
END:VCALENDAR