BEGIN:VCALENDAR
VERSION:2.0
PRODID:-//hacksw/handcal//NONSGML v1.0//EN
BEGIN:VEVENT
DTSTART:20241216T160000Z
DTEND:20241216T180000Z
LOCATION:Théâtre Rousseau, bâtiment Bouygues \n3, Rue Joliot Curie \n91190 GIF-SUR-YVETTE
ORGANIZER;CN=Irina Jaubert - Économie Sociale & Solidaire (CSA):MAILTO:irina.jaubert@mailo.com
SUMMARY:Café Frappé "T'aurais dû ralentir…Une pièce de théâtre pour rire et réfléchir autour de la transition écologique"
DESCRIPTION:C'est parti pour la sixième saison des Cafés Frappés !En pleine crise écologique, l’heure est à la déprime. Les animaux meurent, les océans se réchauffent, les catastrophes naturelles...
URL:https://association.centralesupelec-alumni.com/fr/group/economie-sociale-solidaire-csa/69/calendar/cafe-frappe-t-aurais-du-ralentir-une-piece-de-theatre-pour-rire-et-reflechir-autour-de-la-transition-ecologique/2024/12/16/8613
BEGIN:VALARM
TRIGGER:-P0DT1H0M0S
ACTION:DISPLAY
END:VALARM
END:VEVENT
END:VCALENDAR