BEGIN:VCALENDAR
VERSION:2.0
PRODID:-//hacksw/handcal//NONSGML v1.0//EN
BEGIN:VEVENT
DTSTART:20241227T183000Z
DTEND:20241227T213000Z
LOCATION:Restaurant de l'arbre blanc \n10, Parvis Oscar Niemeyer \n34000 MONTPELLIER
ORGANIZER;CN=Dominique Launay - Occitanie-Méditerranée (CSA):MAILTO:dominique.launay@centraliens.net
SUMMARY:DINER DE FIN D'ANNEE 2024
DESCRIPTION:Le groupe  régional CentraleSupelec d'Occitanie Méditerranée se retrouve pour terminer l'année en invitant les élèves des promotions en cours.Nous nous retrouvons au restaurant de l'arbre Blanc à...
URL:https://association.centralesupelec-alumni.com/fr/group/occitanie-me-diterranee-csa/305/calendar/diner-de-fin-d-annee-2024/2024/12/27/8612
BEGIN:VALARM
TRIGGER:-P0DT1H0M0S
ACTION:DISPLAY
END:VALARM
END:VEVENT
END:VCALENDAR