BEGIN:VCALENDAR
VERSION:2.0
PRODID:-//hacksw/handcal//NONSGML v1.0//EN
BEGIN:VEVENT
DTSTART:20241210T173000Z
DTEND:20241210T210000Z
LOCATION:Campus de CentraleSupélec Metz / Grand Amphithéatre \n2, Rue Edouard Belin \n57070 METZ
ORGANIZER;CN=Marc Darras - Ingénieur et Développement Durable (CSA):MAILTO:marc.darras.pro@free.fr
SUMMARY:Rendez vous de la Shift: Science et Démocratie
DESCRIPTION:Les rendez-vous accueillent Hervé Frezza-Buet, Marc Sciamanna, Camille Souffron et Jacques Treiner pour un échange autour des questions suivantes : Qu’est-ce que la science ? \nDe quelles manières...
URL:https://association.centralesupelec-alumni.com/fr/group/ingenieur-et-developpement-durable-csa/67/calendar/rendez-vous-de-la-shift-science-et-democratie/2024/12/10/8609
BEGIN:VALARM
TRIGGER:-P0DT1H0M0S
ACTION:DISPLAY
END:VALARM
END:VEVENT
END:VCALENDAR