BEGIN:VCALENDAR
VERSION:2.0
PRODID:-//hacksw/handcal//NONSGML v1.0//EN
BEGIN:VEVENT
DTSTART:20241205T173000Z
DTEND:20241205T190000Z
LOCATION:Ampithéatre Michelin \n3, Rue Joliot Curie \n91190 GIF-SUR-YVETTE
ORGANIZER;CN=Christian Duquesne - Marine EauDouce-EauSalée (CSA):MAILTO:christian-duquesne@wanadoo.fr
SUMMARY:Gouvernance de la Marine Nationale, enjeux géopolitiques actuels et émergence de nouvelles technologies
DESCRIPTION:Nous vous proposons d'assister à la conférence organisée par SYMPOSIUM - Association organisant des conférences et des débats (sciences, économie, politique & culture) pour les élèves de l'école...
URL:https://association.centralesupelec-alumni.com/fr/group/marine-eaudouce-eausalee-csa/560/calendar/gouvernance-de-la-marine-nationale-enjeux-geopolitiques-actuels-et-emergence-de-nouvelles-technologies/2024/12/05/8607
BEGIN:VALARM
TRIGGER:-P0DT1H0M0S
ACTION:DISPLAY
END:VALARM
END:VEVENT
END:VCALENDAR