BEGIN:VCALENDAR
VERSION:2.0
PRODID:-//hacksw/handcal//NONSGML v1.0//EN
BEGIN:VEVENT
DTSTART:20250923T220000Z
DTEND:20250930T220000Z
LOCATION:GRECE
ORGANIZER;CN=Jean-Jacques Henry - CSA Ile de France:MAILTO:jjghenry@gmail.com
SUMMARY:VOYAGE EN GRECE LES CYCLADES
DESCRIPTION:                                                                Séjour du 24 septembre au 1er octobre 2025                                                                               En Grèce dans...
URL:https://association.centralesupelec-alumni.com/fr/group/csa-ile-de-france/587/calendar/voyage-en-grece-les-cyclades/2025/09/24/8605
BEGIN:VALARM
TRIGGER:-P0DT1H0M0S
ACTION:DISPLAY
END:VALARM
END:VEVENT
END:VCALENDAR