BEGIN:VCALENDAR
VERSION:2.0
PRODID:-//hacksw/handcal//NONSGML v1.0//EN
BEGIN:VEVENT
DTSTART:20241215T090000Z
DTEND:20241215T150000Z
LOCATION:Vannes \nRemparts \n56000 Vannes
ORGANIZER;CN=Guillaume Landru - Ouest-Atlantique (CSA):MAILTO:guillaume.landru@gmail.com
SUMMARY:Rando vers Vannes
DESCRIPTION:Bonjour à toutes et tous,\nAvec Patrick, nous vous proposons une rando vers Vannes:\nle matin, un tour des remparts (4/5 km)\ndéjeuner en crêperie,\nballade l'après-midi vers Conleau (également 5 km...
URL:https://association.centralesupelec-alumni.com/fr/group/ouest-atlantique-csa/297/calendar/rando-vers-vannes/2024/12/15/8604
BEGIN:VALARM
TRIGGER:-P0DT1H0M0S
ACTION:DISPLAY
END:VALARM
END:VEVENT
END:VCALENDAR