BEGIN:VCALENDAR
VERSION:2.0
PRODID:-//hacksw/handcal//NONSGML v1.0//EN
BEGIN:VEVENT
DTSTART:20241217T083000Z
DTEND:20241217T153000Z
LOCATION:Gare RER Maisons-Laffitte \n1, Avenue du Général de Gaulle \n78600 MAISONS-LAFFITTE
ORGANIZER;CN=Jean-Louis Pallandre - CSA Ile de France:MAILTO:jean-louis.pallandre@wanadoo.fr
SUMMARY:Randonnée de Maisons-Laffitte à Chatou
DESCRIPTION:Randonnée de Maisons-Laffitte à ChatouMarche de 17km : 10km le matin avec 160m de dénivelé positif cumulé, 7km après midi sans dénivelé notable. Possibilité de quitter la randonnée après le repas (ou ...
URL:https://association.centralesupelec-alumni.com/fr/group/csa-ile-de-france/587/calendar/randonnee-de-maisons-laffitte-a-chatou/2024/12/17/8599
BEGIN:VALARM
TRIGGER:-P0DT1H0M0S
ACTION:DISPLAY
END:VALARM
END:VEVENT
END:VCALENDAR