BEGIN:VCALENDAR
VERSION:2.0
PRODID:-//hacksw/handcal//NONSGML v1.0//EN
BEGIN:VEVENT
DTSTART:20250123T180000Z
DTEND:20250123T190000Z
LOCATION:https://us02web.zoom.us/j/7216080991
ORGANIZER;CN=CentraleSupélec Alumni:MAILTO:csa-alumni@centralesupelec-alumni.com
SUMMARY:Conférence "Connaitre les placements diversifiés"
DESCRIPTION:Code d'accès du webinar Code secret : 228609...
URL:https://association.centralesupelec-alumni.com/fr/event/conference-connaitre-les-placements-diversifies/2025/01/23/8595
BEGIN:VALARM
TRIGGER:-P0DT1H0M0S
ACTION:DISPLAY
END:VALARM
END:VEVENT
END:VCALENDAR