BEGIN:VCALENDAR
VERSION:2.0
PRODID:-//hacksw/handcal//NONSGML v1.0//EN
BEGIN:VEVENT
DTSTART:20241206T110000Z
DTEND:20241206T130000Z
LOCATION:En voûte et moi \n5, Rue Denuzière \n69002 LYON
ORGANIZER;CN=David Tavoularis - Lyon (CSA):MAILTO:david.tavoularis@mycom-osi.com
SUMMARY:CACCS - Déjeuner Malin du vendredi 6 décembre
DESCRIPTION:Chers toutes et tous, J’ai le plaisir de vous annoncer notre prochain déjeuner malin du vendredi 6 décembre 2024 à midi.Ces repas sont toujours des moments sympathiques, d’ouverture et d’échanges...
URL:https://association.centralesupelec-alumni.com/fr/group/lyon-csa/299/calendar/caccs-dejeuner-malin-du-vendredi-6-decembre/2024/12/06/8585
BEGIN:VALARM
TRIGGER:-P0DT1H0M0S
ACTION:DISPLAY
END:VALARM
END:VEVENT
END:VCALENDAR