BEGIN:VCALENDAR
VERSION:2.0
PRODID:-//hacksw/handcal//NONSGML v1.0//EN
BEGIN:VEVENT
DTSTART:20241204T173000Z
DTEND:20241204T200000Z
LOCATION:Maison Des Ingénieurs et Scientifiques de Lyon (MDIS) \n15, Rue du Plat \n69002 LYON
ORGANIZER;CN=David Tavoularis - Lyon (CSA):MAILTO:david.tavoularis@mycom-osi.com
SUMMARY:Soirée apéro et jeux de société à la MDIS (Lyon/Bellecour)
DESCRIPTION:Cher(e) camarade,Pour clôturer cette année olympique en beauté et en vue des fêtes qui approchent à grands pas, nous te proposons de peaufiner ta préparation par une soirée “Apéro/Jeux de société” à...
URL:https://association.centralesupelec-alumni.com/fr/group/lyon-csa/299/calendar/soiree-apero-et-jeux-de-societe-a-la-mdis-lyon-bellecour/2024/12/04/8584
BEGIN:VALARM
TRIGGER:-P0DT1H0M0S
ACTION:DISPLAY
END:VALARM
END:VEVENT
END:VCALENDAR