BEGIN:VCALENDAR
VERSION:2.0
PRODID:-//hacksw/handcal//NONSGML v1.0//EN
BEGIN:VEVENT
DTSTART:20241205T080000Z
DTEND:20241205T093000Z
LOCATION:
ORGANIZER;CN=Patrick Coppin:MAILTO:patrick.coppin@gmail.com
SUMMARY:Maitriser l'art de votre présentation professionelle
DESCRIPTION:En collaboration avec l'AX Association des polytechniciens, l'association INSEAD\nPrésenter son projet professionnel génère toute une série de rencontres en face à face ou en visio, avec des...
URL:https://association.centralesupelec-alumni.com/fr/event/maitriser-l-art-de-votre-presentation-professionelle/2024/12/05/8577
BEGIN:VALARM
TRIGGER:-P0DT1H0M0S
ACTION:DISPLAY
END:VALARM
END:VEVENT
END:VCALENDAR