BEGIN:VCALENDAR
VERSION:2.0
PRODID:-//hacksw/handcal//NONSGML v1.0//EN
BEGIN:VEVENT
DTSTART:20241128T083000Z
DTEND:20241128T110000Z
LOCATION:AX - Salle Caroline Aigle (Maison des Polytechniciens)  1 \n12, Rue de Poitiers  \n75007 paris
ORGANIZER;CN=Patrick Coppin:MAILTO:patrick.coppin@gmail.com
SUMMARY:(ANNULE) Le lancement d'alerte : enjeux et opportunités
DESCRIPTION:\nEN COLLABORATION AVEC l'AX Polytechnique ALumni\nLe lancement d’alerte, loin d’être une simple dénonciation, est un acte visant à protéger l’intérêt général. Depuis la loi « Sapin II » de 2016 et la...
URL:https://association.centralesupelec-alumni.com/fr/event/-annule-le-lancement-d-alerte-enjeux-et-opportunites/2024/11/28/8576
BEGIN:VALARM
TRIGGER:-P0DT1H0M0S
ACTION:DISPLAY
END:VALARM
END:VEVENT
END:VCALENDAR