BEGIN:VCALENDAR
VERSION:2.0
PRODID:-//hacksw/handcal//NONSGML v1.0//EN
BEGIN:VEVENT
DTSTART:20241210T180000Z
DTEND:20241210T200000Z
LOCATION:Maison des ESSEC \n11, Avenue de Friedland \n75008 PARIS
ORGANIZER;CN=Christian Ledoux - Automobile (CSA):MAILTO:christian.ledoux64@outlook.fr
SUMMARY:Conférence de Denis Le Vot  CEO de la marque DACIA  & Chief Supply Chain Officer de Renault Group
DESCRIPTION:Denis Le Vot, ingénieur des Mines de Paris ayant effectué l'ensemble de sa carrière au sein du Groupe Renault depuis 1990, a gravi l'ensemble des échelons pour devenir en 2021 au démarrage de la...
URL:https://association.centralesupelec-alumni.com/fr/group/automobile-csa/317/calendar/conference-de-denis-le-vot-ceo-de-la-marque-dacia-chief-supply-chain-officer-de-renault-group/2024/12/10/8574
BEGIN:VALARM
TRIGGER:-P0DT1H0M0S
ACTION:DISPLAY
END:VALARM
END:VEVENT
END:VCALENDAR