BEGIN:VCALENDAR
VERSION:2.0
PRODID:-//hacksw/handcal//NONSGML v1.0//EN
BEGIN:VEVENT
DTSTART:20241205T180000Z
DTEND:20241205T190000Z
LOCATION:https://us02web.zoom.us/j/7216080991
ORGANIZER;CN=CentraleSupélec Alumni:MAILTO:csa-alumni@centralesupelec-alumni.com
SUMMARY:Conférence "Les fondamentaux de la fiscalité"
DESCRIPTION:Code d'accès du webinar k88jRG...
URL:https://association.centralesupelec-alumni.com/fr/event/conference-les-fondamentaux-de-la-fiscalite/2024/12/05/8573
BEGIN:VALARM
TRIGGER:-P0DT1H0M0S
ACTION:DISPLAY
END:VALARM
END:VEVENT
END:VCALENDAR