BEGIN:VCALENDAR
VERSION:2.0
PRODID:-//hacksw/handcal//NONSGML v1.0//EN
BEGIN:VEVENT
DTSTART:20241212T163000Z
DTEND:20241212T200000Z
LOCATION:Tour Engie T1 \n1, Place Samuel de Champlain \n92400 COURBEVOIE
ORGANIZER;CN=Albin Jura - Énergie Durable (CSA):MAILTO:albin.jura@gmail.com
SUMMARY:Scénarios Energie  2024
DESCRIPTION:Le Groupe Professionnel Energie Durable , en association avec le comité Economie d’EVOLEN, l’AEE (Association des Économistes de l’Energie) et l’AIEN (Association of International Energy Negociators) ...
URL:https://association.centralesupelec-alumni.com/fr/group/energie-durable-csa/323/calendar/scenarios-energie-2024/2024/12/12/8568
BEGIN:VALARM
TRIGGER:-P0DT1H0M0S
ACTION:DISPLAY
END:VALARM
END:VEVENT
END:VCALENDAR