BEGIN:VCALENDAR
VERSION:2.0
PRODID:-//hacksw/handcal//NONSGML v1.0//EN
BEGIN:VEVENT
DTSTART:20241203T171500Z
DTEND:20241203T184500Z
LOCATION:Maison des Arts et Métiers - CLENAM \n9bis, Avenue d'Iéna \n75116 PARIS
ORGANIZER;CN=Jean-Christophe Strich - Repreneurs (CSA):MAILTO:jc.strich@free.fr
SUMMARY:CS Repreneurs : L'assurance de la garantie de passif, intérêt et enjeux en conférence chez XMP Repreneurs
DESCRIPTION:Chers camarades Repreneurs,\nCentraleSupelec Repreneurs, membre de G2E - Grandes Ecoles Entrepreneurs,  vous informe de la tenue de la  prochaine conférence organisée par le Club Repreneurs de XMP...
URL:https://association.centralesupelec-alumni.com/fr/group/repreneurs-csa/331/calendar/cs-repreneurs-l-assurance-de-la-garantie-de-passif-interet-et-enjeux-en-conference-chez-xmp-repreneurs/2024/12/03/8567
BEGIN:VALARM
TRIGGER:-P0DT1H0M0S
ACTION:DISPLAY
END:VALARM
END:VEVENT
END:VCALENDAR