BEGIN:VCALENDAR
VERSION:2.0
PRODID:-//hacksw/handcal//NONSGML v1.0//EN
BEGIN:VEVENT
DTSTART:20241205T170000Z
DTEND:20241205T220000Z
LOCATION:PwC \n11, Rue Arthur III \n44200 NANTES
ORGANIZER;CN=Guillaume Landru - Ouest-Atlantique (CSA):MAILTO:guillaume.landru@gmail.com
SUMMARY:DECRYPTAGE ELECTIONS AMERICAINES 2024
DESCRIPTION:Bonjour,Nos camarades d'HEC nous invitent à l'événement suivant :https://www.hecalumni.fr/fr/group/pays-de-la-loire/71/calendar/decryptage-elections-americaines-2024/2024/12/05/11807Information et...
URL:https://association.centralesupelec-alumni.com/fr/group/ouest-atlantique-csa/297/calendar/decryptage-elections-americaines-2024/2024/12/05/8566
BEGIN:VALARM
TRIGGER:-P0DT1H0M0S
ACTION:DISPLAY
END:VALARM
END:VEVENT
END:VCALENDAR