BEGIN:VCALENDAR
VERSION:2.0
PRODID:-//hacksw/handcal//NONSGML v1.0//EN
BEGIN:VEVENT
DTSTART:20241122T020000Z
DTEND:20241122T040000Z
LOCATION:Victory Hall \n360 Richt St
ORGANIZER;CN=Alain Raynaud - USA (CSA):MAILTO:alain@fairsoftware.net
SUMMARY:After-work San Francisco
DESCRIPTION:On se retrouve au Victory Hall le jeudi 21 Novembre a partir de 18h, pour le prochain after-work sur la region de San Francisco et Bay Area.
URL:https://association.centralesupelec-alumni.com/fr/group/usa-csa/209/calendar/after-work-san-francisco/2024/11/22/8529
BEGIN:VALARM
TRIGGER:-P0DT1H0M0S
ACTION:DISPLAY
END:VALARM
END:VEVENT
END:VCALENDAR