BEGIN:VCALENDAR
VERSION:2.0
PRODID:-//hacksw/handcal//NONSGML v1.0//EN
BEGIN:VEVENT
DTSTART:20241128T083000Z
DTEND:20241128T153000Z
LOCATION:Bar « Le Jaurès Café », à côté de la station de métro Jaurès \n1, Avenue Jean Jaurès \n75019 PARIS
ORGANIZER;CN=Jacqueline Pasdeloup - CSA Ile de France:MAILTO:jacqueline@asso-supelec.org
SUMMARY:La boucle est bouclée ! Dernière étape du tour de Paris
DESCRIPTION:\nRendez-vous : \n9h30 au bar « Le Jaurès Café », 1 avenue Jean Jaurès, situé à côté de la station de métro Jaurès.\nFin de la randonnée : aux alentours de 16 h 30, à la station Buttes...
URL:https://association.centralesupelec-alumni.com/fr/group/csa-ile-de-france/587/calendar/la-boucle-est-bouclee-derniere-etape-du-tour-de-paris/2024/11/28/8524
BEGIN:VALARM
TRIGGER:-P0DT1H0M0S
ACTION:DISPLAY
END:VALARM
END:VEVENT
END:VCALENDAR