BEGIN:VCALENDAR
VERSION:2.0
PRODID:-//hacksw/handcal//NONSGML v1.0//EN
BEGIN:VEVENT
DTSTART:20241213T080000Z
DTEND:20241213T120000Z
LOCATION:
ORGANIZER;CN=Jacqueline Pasdeloup:MAILTO:jacqueline@asso-supelec.org
SUMMARY:RCC - Rencontres avec les " recruteurs " par Zoom
DESCRIPTION:\nCes rencontres te permettront de rencontrer en une matinée par Zoom une douzaine de " recruteurs "  issus de grands cabinets de recrutement soucieux de faire connaissance avec autant de...
URL:https://association.centralesupelec-alumni.com/fr/event/rcc-rencontres-avec-les-recruteurs-par-zoom/2024/12/13/8523
BEGIN:VALARM
TRIGGER:-P0DT1H0M0S
ACTION:DISPLAY
END:VALARM
END:VEVENT
END:VCALENDAR