BEGIN:VCALENDAR
VERSION:2.0
PRODID:-//hacksw/handcal//NONSGML v1.0//EN
BEGIN:VEVENT
DTSTART:20241117T090000Z
DTEND:20241117T150000Z
LOCATION:Île de Mazerolles, 44240 Sucé-sur-Erdre \n44240 Sucé-sur-Erdre
ORGANIZER;CN=Guillaume Landru - Ouest-Atlantique (CSA):MAILTO:guillaume.landru@gmail.com
SUMMARY:Rando autour de l'Ile de Mazerolles
DESCRIPTION:Bonjour,\nNotez dès à présent notre prochaine rando le 17 Novembre autour de l'Ile de Mazerolles à Sucé-sur-Erdre.Départ du hameau de la Hérinière où nous pourrons garer les voitures devant un hangar ...
URL:https://association.centralesupelec-alumni.com/fr/group/ouest-atlantique-csa/297/calendar/rando-autour-de-l-ile-de-mazerolles/2024/11/17/8517
BEGIN:VALARM
TRIGGER:-P0DT1H0M0S
ACTION:DISPLAY
END:VALARM
END:VEVENT
END:VCALENDAR