BEGIN:VCALENDAR
VERSION:2.0
PRODID:-//hacksw/handcal//NONSGML v1.0//EN
BEGIN:VEVENT
DTSTART:20250115T180000Z
DTEND:20250115T203000Z
LOCATION:Maison CentraleSupélec \n8, Rue Jean Goujon \n75008 PARIS
ORGANIZER;CN=CentraleSupélec Alumni:MAILTO:csa-alumni@centralesupelec-alumni.com
SUMMARY:Soirée des Voeux 2025
DESCRIPTION:\nCentraleSupélec Alumni a le grand plaisir de vous convier \nà sa soirée exceptionnelle du Nouvel An \nle Mercredi 15 janvier 2025 à partir de 19h.\nCe qui vous attend…💫  Remise des prix Félix...
URL:https://association.centralesupelec-alumni.com/fr/event/soiree-des-voeux-2025/2025/01/15/8516
BEGIN:VALARM
TRIGGER:-P0DT1H0M0S
ACTION:DISPLAY
END:VALARM
END:VEVENT
END:VCALENDAR