BEGIN:VCALENDAR
VERSION:2.0
PRODID:-//hacksw/handcal//NONSGML v1.0//EN
BEGIN:VEVENT
DTSTART:20241129T183000Z
DTEND:20241129T210000Z
LOCATION:Big Chill \n257, Pentonville Road \nN1 9NL LONDON
ORGANIZER;CN=Christophe Wakim - Grande-Bretagne (CSA):MAILTO:christophe.wakim@gmail.com
SUMMARY:Soirée CentraleSupélec Grande Bretagne avec les élèves
DESCRIPTION:Le Groupe CentraleSupélec Alumni Grande Bretagne, UK Friends of CentraleSupélec (Fondation CentraleSupélec) et l'équipe Mobilité Internationale de CentraleSupélec t'invitent à une rencontre entre les ...
URL:https://association.centralesupelec-alumni.com/fr/group/grande-bretagne-csa/265/calendar/soiree-centralesupelec-grande-bretagne-avec-les-eleves/2024/11/29/8515
BEGIN:VALARM
TRIGGER:-P0DT1H0M0S
ACTION:DISPLAY
END:VALARM
END:VEVENT
END:VCALENDAR