BEGIN:VCALENDAR
VERSION:2.0
PRODID:-//hacksw/handcal//NONSGML v1.0//EN
BEGIN:VEVENT
DTSTART:20241125T163000Z
DTEND:20241125T200000Z
LOCATION:Cabinet HAYS Salle du 7e étage \n147, Boulevard Haussmann \n75008 PARIS
ORGANIZER;CN=Patrick Coppin:MAILTO:patrick.coppin@gmail.com
SUMMARY:Les conseils d'un cabinet de recrutement pour utiliser LINKEDIN pour optimiser votre personal branding
DESCRIPTION: En collaboration avec le cabinet HAYS Un atelier pratique pour vous guider et vous conseiller pour utiliser LinkedIn dans votre recherche d’un nouveau poste. Aujourd’hui, professionnels et recruteurs...
URL:https://association.centralesupelec-alumni.com/fr/event/les-conseils-d-un-cabinet-de-recrutement-pour-utiliser-linkedin-pour-optimiser-votre-personal-branding/2024/11/25/8514
BEGIN:VALARM
TRIGGER:-P0DT1H0M0S
ACTION:DISPLAY
END:VALARM
END:VEVENT
END:VCALENDAR