BEGIN:VCALENDAR
VERSION:2.0
PRODID:-//hacksw/handcal//NONSGML v1.0//EN
BEGIN:VEVENT
DTSTART:20241107T140000Z
DTEND:20241107T195500Z
LOCATION:Twenty Three Rooftop - Grand Plaza Movenpick \nAl Falak Street
ORGANIZER;CN=Rémy VILLE MARIE:MAILTO:remyville@gmail.com
SUMMARY:Afterwork Grandes Ecoles
DESCRIPTION: Get together - Novembre \nNouvelle rencontre inter-alumni grandes ecoles.  Une centaine d'alumni attendus!!!L'ambassadeur de France aux emirats,  S.E. Nicolas Niemtchinow pourrait etre de la partie...
URL:https://association.centralesupelec-alumni.com/fr/event/afterwork-grandes-ecoles/2024/11/07/8510
BEGIN:VALARM
TRIGGER:-P0DT1H0M0S
ACTION:DISPLAY
END:VALARM
END:VEVENT
END:VCALENDAR