BEGIN:VCALENDAR
VERSION:2.0
PRODID:-//hacksw/handcal//NONSGML v1.0//EN
BEGIN:VEVENT
DTSTART:20241114T170000Z
DTEND:20241114T190000Z
LOCATION:Hôtel des Arts et Métiers / Salle Bonsergent \n9, Avenue d'Iéna \n75116 PARIS
ORGANIZER;CN=Jacqueline Pasdeloup:MAILTO:jacqueline@asso-supelec.org
SUMMARY:L'IA dans la recherche d'emploi : PRESENTIEL UNIQUEMENT
DESCRIPTION:\nATELIER EN PRESENTIEL UNIQUEMENT \nAtelier en présentielL'IA DANS LA RECHERCHE D'EMPLOI2e niveau : avancéJeudi 14 novembre 2024\nde 18 h à 20 hSalle Bonsergent,\nHôtel des Arts et Métiers\n9 bis Av....
URL:https://association.centralesupelec-alumni.com/fr/event/l-ia-dans-la-recherche-d-emploi-presentiel-uniquement/2024/11/14/8509
BEGIN:VALARM
TRIGGER:-P0DT1H0M0S
ACTION:DISPLAY
END:VALARM
END:VEVENT
END:VCALENDAR