BEGIN:VCALENDAR
VERSION:2.0
PRODID:-//hacksw/handcal//NONSGML v1.0//EN
BEGIN:VEVENT
DTSTART:20241209T170000Z
DTEND:20241209T200000Z
LOCATION:CLENAM Paris \n9bis, Avenue d'Iéna \n75116 PARIS
ORGANIZER;CN=Jean-Christophe Strich - Repreneurs (CSA):MAILTO:jc.strich@free.fr
SUMMARY:CS Repreneurs : 4ème édition de la soirée Les pépites de G2E
DESCRIPTION:Chers camarades,CentraleSupelec Repreneurs  est membre de l’association Grandes Ecoles Entrepreneurs (G2E) qui réunit les Clubs Entrepreneurs et Repreneurs de 34 Grandes Ecoles. G2E vous invite à...
URL:https://association.centralesupelec-alumni.com/fr/group/repreneurs-csa/331/calendar/cs-repreneurs-4eme-edition-de-la-soiree-les-pepites-de-g2e/2024/12/09/8506
BEGIN:VALARM
TRIGGER:-P0DT1H0M0S
ACTION:DISPLAY
END:VALARM
END:VEVENT
END:VCALENDAR