BEGIN:VCALENDAR
VERSION:2.0
PRODID:-//hacksw/handcal//NONSGML v1.0//EN
BEGIN:VEVENT
DTSTART:20241113T173000Z
DTEND:20241113T193000Z
LOCATION:Association HEC Alumni \n9, Avenue Franklin Delano Roosevelt \n75008 PARIS
ORGANIZER;CN=Jean-Christophe Strich - Repreneurs (CSA):MAILTO:jc.strich@free.fr
SUMMARY:CS Repreneurs : Table ronde HEC Repreneurs sur le thème du Ciblage : comment identifier son entreprise à reprendre
DESCRIPTION:Chers camarades Repreneurs,\nCentraleSupelec Repreneurs vous informe de la tenue de la  prochaine table ronde HEC Repreneurs consacrée au thème suivant : \nCiblage : comment identifier son entreprise ...
URL:https://association.centralesupelec-alumni.com/fr/group/repreneurs-csa/331/calendar/cs-repreneurs-table-ronde-hec-repreneurs-sur-le-theme-du-ciblage-comment-identifier-son-entreprise-a-reprendre/2024/11/13/8504
BEGIN:VALARM
TRIGGER:-P0DT1H0M0S
ACTION:DISPLAY
END:VALARM
END:VEVENT
END:VCALENDAR