BEGIN:VCALENDAR
VERSION:2.0
PRODID:-//hacksw/handcal//NONSGML v1.0//EN
BEGIN:VEVENT
DTSTART:20241112T173000Z
DTEND:20241112T203000Z
LOCATION:La Scène \n190, Rue Pierre Duhem \n13290 AIX-EN-PROVENCE
ORGANIZER;CN=Philippe Cabrit - Provence (CSA):MAILTO:philippe.cabrit@centralesupelec-alumni.com
SUMMARY:Afterwork / Afterschool CENTRALESUPELEC le  mardi 12 novembre 2024
DESCRIPTION:\nNotre prochain afterwork / afterschool aura lieu le mardi 12 novembre à la Scène2 aux  Milles à Aix en Provence. Nous nous retrouverons à La Scène 2 où nous sommes déjà allés plusieurs fois et dont ...
URL:https://association.centralesupelec-alumni.com/fr/group/provence-csa/347/calendar/afterwork-afterschool-centralesupelec-le-mardi-12-novembre-2024/2024/11/12/8502
BEGIN:VALARM
TRIGGER:-P0DT1H0M0S
ACTION:DISPLAY
END:VALARM
END:VEVENT
END:VCALENDAR