BEGIN:VCALENDAR
VERSION:2.0
PRODID:-//hacksw/handcal//NONSGML v1.0//EN
BEGIN:VEVENT
DTSTART:20241114T191500Z
DTEND:20241114T213000Z
LOCATION:Maison des Centraliens \n8, Rue Jean Goujon \n75008 PARIS
ORGANIZER;CN=Clément Thébault - CSA Oenologie:MAILTO:thebault.cl@gmail.com
SUMMARY:Apprendre l’art de la dégustation avec Jean-Michel Deluc
DESCRIPTION:Rejoignez-nous pour une soirée exclusive de dégustation commentée de 6 vins, animée par Jean-Michel Deluc, ancien sommelier du Ritz et co-fondateur du Petit Ballon.\nLaissez-vous guider à travers les ...
URL:https://association.centralesupelec-alumni.com/fr/group/csa-oenologie/597/calendar/apprendre-l-art-de-la-degustation-avec-jean-michel-deluc/2024/11/14/8497
BEGIN:VALARM
TRIGGER:-P0DT1H0M0S
ACTION:DISPLAY
END:VALARM
END:VEVENT
END:VCALENDAR