BEGIN:VCALENDAR
VERSION:2.0
PRODID:-//hacksw/handcal//NONSGML v1.0//EN
BEGIN:VEVENT
DTSTART:20241219T173000Z
DTEND:20241219T193000Z
LOCATION:KATIMAVIK \n4, Rue Mourguet \n69005 LYON
ORGANIZER;CN=Rui Cai - Lyon (CSA):MAILTO:cai.rui@hotmail.com
SUMMARY:【Afterwork】Jeudi 19 décembre (18h30)  -  Retrouvons-nous au KATIMAVIK (Vieux Lyon)
DESCRIPTION:Afterwork CentraleSupélec et CACCSNotre afterwork mensuel est de retour au  KATIMAVIK, 4 rue Mourguet (Lyon 5), tout près de l'arrêt de métro Vieux Lyon -> jeudi 19 décembre à partir de...
URL:https://association.centralesupelec-alumni.com/fr/group/lyon-csa/299/calendar/-afterwork-jeudi-19-decembre-18h30-retrouvons-nous-au-katimavik-vieux-lyon/2024/12/19/8496
BEGIN:VALARM
TRIGGER:-P0DT1H0M0S
ACTION:DISPLAY
END:VALARM
END:VEVENT
END:VCALENDAR