BEGIN:VCALENDAR
VERSION:2.0
PRODID:-//hacksw/handcal//NONSGML v1.0//EN
BEGIN:VEVENT
DTSTART:20241210T190000Z
DTEND:20241210T223000Z
LOCATION:Auditorium de Lyon \n149, Rue Garibaldi \n69003 LYON
ORGANIZER;CN=David Tavoularis - Lyon (CSA):MAILTO:david.tavoularis@mycom-osi.com
SUMMARY:Lyon Auditorium - Soirée ciné-concert : Le fantôme de l'Opéra
DESCRIPTION:INSCRIPTIONS CLOSESChère camarade, cher camarade,A l’approche des Fêtes de Noël et pour ne pas perdre le rythme initié par la Fête des Lumières (!), nous te proposons un ciné-concert qui te fera...
URL:https://association.centralesupelec-alumni.com/fr/group/lyon-csa/299/calendar/lyon-auditorium-soiree-cine-concert-le-fantome-de-l-opera/2024/12/10/8494
BEGIN:VALARM
TRIGGER:-P0DT1H0M0S
ACTION:DISPLAY
END:VALARM
END:VEVENT
END:VCALENDAR