BEGIN:VCALENDAR
VERSION:2.0
PRODID:-//hacksw/handcal//NONSGML v1.0//EN
BEGIN:VEVENT
DTSTART:20241123T073000Z
DTEND:20241123T163000Z
LOCATION:Fort de Brégançon
ORGANIZER;CN=Alexandre Francois - Var:MAILTO:alexandre.francois@wanadoo.fr
SUMMARY:Visite du Fort de Brégançon
DESCRIPTION:Les inscriptions sont désormais closes, sauf désistement\nLa prochaine sortie du Groupe du Var de CentraleSupelec Alumni aura  lieusamedi 23 novembre 2024\nà Brégançon et La LondeLe programme -...
URL:https://association.centralesupelec-alumni.com/fr/group/var/283/calendar/visite-du-fort-de-bregancon/2024/11/23/8492
BEGIN:VALARM
TRIGGER:-P0DT1H0M0S
ACTION:DISPLAY
END:VALARM
END:VEVENT
END:VCALENDAR