BEGIN:VCALENDAR
VERSION:2.0
PRODID:-//hacksw/handcal//NONSGML v1.0//EN
BEGIN:VEVENT
DTSTART:20241115T070000Z
DTEND:20241115T090000Z
LOCATION:IRT Jules Verne \n1, Mail des 20 000 Lieues \n44340 BOUGUENAIS
ORGANIZER;CN=Guillaume Landru - Ouest-Atlantique (CSA):MAILTO:guillaume.landru@gmail.com
SUMMARY:Visite avec IESF Pays de la Loire : IRT Jules Verne
DESCRIPTION:En partenariat avec IESF Pays de la Loire, nous vous proposons une visite del'IRT Jules Verne,le centre de recherche industriel et collaboratif au service du manufacturing à Bouguenais.Le RDV est à...
URL:https://association.centralesupelec-alumni.com/fr/group/ouest-atlantique-csa/297/calendar/visite-avec-iesf-pays-de-la-loire-irt-jules-verne/2024/11/15/8486
BEGIN:VALARM
TRIGGER:-P0DT1H0M0S
ACTION:DISPLAY
END:VALARM
END:VEVENT
END:VCALENDAR