BEGIN:VCALENDAR
VERSION:2.0
PRODID:-//hacksw/handcal//NONSGML v1.0//EN
BEGIN:VEVENT
DTSTART:20241114T180000Z
DTEND:20241114T193000Z
LOCATION:
ORGANIZER;CN=Jean-Christophe Strich - Repreneurs (CSA):MAILTO:jc.strich@free.fr
SUMMARY:CS Repreneurs : Atelier de la Transformation spécialement dédié au Groupement REPRENEURS
DESCRIPTION: \nCher membre du Groupement Repreneurs, Beaucoup d'entre nous impulsent une transformation des entreprises qu'ils reprennent ou bien c'est un point clé de leur projet de reprise. C'est pourquoi, le...
URL:https://association.centralesupelec-alumni.com/fr/group/repreneurs-csa/331/calendar/cs-repreneurs-atelier-de-la-transformation-specialement-dedie-au-groupement-repreneurs/2024/11/14/8484
BEGIN:VALARM
TRIGGER:-P0DT1H0M0S
ACTION:DISPLAY
END:VALARM
END:VEVENT
END:VCALENDAR