BEGIN:VCALENDAR
VERSION:2.0
PRODID:-//hacksw/handcal//NONSGML v1.0//EN
BEGIN:VEVENT
DTSTART:20241205T183000Z
DTEND:20241205T220000Z
LOCATION:Le Bistro du Croissant \n146, Rue Montmartre \n75002 PARIS
ORGANIZER;CN=Christopher Georges - publiCS / CSA Secteur public:MAILTO:christopher.georges@centralesupelec-alumni.com
SUMMARY:Anniversaire publiCS :tada:
DESCRIPTION:\nLe groupe professionnel publiCS fête son premier anniversaire !Pour célébrer cela comme il se doit, nous vous proposons de nous retrouver, élèves comme alumni, autour d'un verre. A cette occasion,...
URL:https://association.centralesupelec-alumni.com/fr/group/publics-csa-secteur-public/602/calendar/anniversaire-publics-tada/2024/12/05/8483
BEGIN:VALARM
TRIGGER:-P0DT1H0M0S
ACTION:DISPLAY
END:VALARM
END:VEVENT
END:VCALENDAR