BEGIN:VCALENDAR
VERSION:2.0
PRODID:-//hacksw/handcal//NONSGML v1.0//EN
BEGIN:VEVENT
DTSTART:20241205T210000Z
DTEND:20241205T220000Z
LOCATION:Lycée Hôtelier Jean DROUANT, Paris 17ème
ORGANIZER;CN=Philippe Launay:MAILTO:pefsysly@gmail.com
SUMMARY:Réunion de la 78 le 5 décembre au Lycée Hôtelier Jean DROUANT, Paris 17ème
DESCRIPTION:Chèr(e) Camarade,\nNous avons décidé de faire notre réunion annuelle 78 le 5 décembre au Lycée Hôtelier Jean DROUANT, Paris 17ème. C'est un endroit très convivial que connaissent par exemple Michel...
URL:https://association.centralesupelec-alumni.com/fr/event/reunion-de-la-78-le-5-decembre-au-lycee-hotelier-jean-drouant-paris-17eme/2024/12/05/8474
BEGIN:VALARM
TRIGGER:-P0DT1H0M0S
ACTION:DISPLAY
END:VALARM
END:VEVENT
END:VCALENDAR