BEGIN:VCALENDAR
VERSION:2.0
PRODID:-//hacksw/handcal//NONSGML v1.0//EN
BEGIN:VEVENT
DTSTART:20241104T170000Z
DTEND:20241104T190000Z
LOCATION:Université Populaire d'Uzes \n1 Bis, Avenue Général Vincent \n30700 UZES
ORGANIZER;CN=Dominique Launay - Occitanie-Méditerranée (CSA):MAILTO:dominique.launay@centraliens.net
SUMMARY:Grand carenage du parc nucléaire Edf
DESCRIPTION:par Bruno de MAGONDEAUXLe programme EDF de Grand Carénage a pour objectif de prolonger la durée de vie des réacteurs REP français existants au-delà des 40 ans prévus à l’origine.\nL’exposé expliquera ...
URL:https://association.centralesupelec-alumni.com/fr/group/occitanie-me-diterranee-csa/305/calendar/grand-carenage-du-parc-nucleaire-edf/2024/11/04/8473
BEGIN:VALARM
TRIGGER:-P0DT1H0M0S
ACTION:DISPLAY
END:VALARM
END:VEVENT
END:VCALENDAR