BEGIN:VCALENDAR
VERSION:2.0
PRODID:-//hacksw/handcal//NONSGML v1.0//EN
BEGIN:VEVENT
DTSTART:20241212T113000Z
DTEND:20241212T130000Z
LOCATION:
ORGANIZER;CN=Patrick Coppin:MAILTO:patrick.coppin@gmail.com
SUMMARY:12 CLES POUR REUSSIR SA PRISE DE POSTE
DESCRIPTION:\nClôture des inscriptions le 11 décembre à 18 h\nEn s'appuyant sur le livre qu'ils viennent de publier, Didier Rolland et Hervé Bommelaer partageront avec vous les clés de la réussite d'une prise de ...
URL:https://association.centralesupelec-alumni.com/fr/event/12-cles-pour-reussir-sa-prise-de-poste/2024/12/12/8470
BEGIN:VALARM
TRIGGER:-P0DT1H0M0S
ACTION:DISPLAY
END:VALARM
END:VEVENT
END:VCALENDAR