BEGIN:VCALENDAR
VERSION:2.0
PRODID:-//hacksw/handcal//NONSGML v1.0//EN
BEGIN:VEVENT
DTSTART:20241126T180000Z
DTEND:20241126T203000Z
LOCATION:Comfort Hotel Grenoble Meylan \n12, Chemin du Vieux Chêne \n38240 MEYLAN
ORGANIZER;CN=Philippe Chinkirch - Dauphiné - Savoie (CSA):MAILTO:philippe.chinkirch@centraliens.net
SUMMARY:Conférence : Creusement du tunnel Lyon-Turin, difficultés et solutions
DESCRIPTION:La traversée des Alpes est un élément crucial pour les échanges commerciaux et la mobilité des personnes entre les nations européennes. La ligne ferroviaire mixte Lyon-Turin répond à l’objectif...
URL:https://association.centralesupelec-alumni.com/fr/group/dauphine-savoie-csa/307/calendar/conference-creusement-du-tunnel-lyon-turin-difficultes-et-solutions/2024/11/26/8467
BEGIN:VALARM
TRIGGER:-P0DT1H0M0S
ACTION:DISPLAY
END:VALARM
END:VEVENT
END:VCALENDAR