BEGIN:VCALENDAR
VERSION:2.0
PRODID:-//hacksw/handcal//NONSGML v1.0//EN
BEGIN:VEVENT
DTSTART:20241106T173000Z
DTEND:20241106T200000Z
LOCATION:Maison CentraleSupélec Alumni \n8, Rue Jean Goujon \n75008 PARIS
ORGANIZER;CN=Catherine Gibert - CentraleSupelec Au Féminin (CSA):MAILTO:catherine.gibert.1997@centralesupelec-alumni.com
SUMMARY:Speed Networking CS au féminin -reporté
DESCRIPTION:Centralesupelec au Féminin a le plaisir de te convier à une nouvelle session de Speed Networking le 6 novembre 2024  au 8 rue Jean Goujon 75008 Paris, salle Saclay au 5eme étage.\nCette rencontre a...
URL:https://association.centralesupelec-alumni.com/fr/group/centralesupelec-au-feminin-csa/73/calendar/speed-networking-cs-au-feminin-reporte/2024/11/06/8463
BEGIN:VALARM
TRIGGER:-P0DT1H0M0S
ACTION:DISPLAY
END:VALARM
END:VEVENT
END:VCALENDAR