BEGIN:VCALENDAR
VERSION:2.0
PRODID:-//hacksw/handcal//NONSGML v1.0//EN
BEGIN:VEVENT
DTSTART:20241105T170000Z
DTEND:20241105T183000Z
LOCATION:
ORGANIZER;CN=Marc Darras - Ingénieur et Développement Durable (CSA):MAILTO:marc.darras.pro@free.fr
SUMMARY:Rappel: Ce mardi 5/11  Agir en faveur du climat et de l’environnement dans son entreprise
DESCRIPTION:co-organisé par Alumni for the Planet, le groupes Ingénieurs et Développement Durable, Centrale Energie, Centrale transition et Essec Environnement.\n🌟 Témoignage de Thibaut Massiet du Biest, ancien...
URL:https://association.centralesupelec-alumni.com/fr/group/ingenieur-et-developpement-durable-csa/67/calendar/rappel-ce-mardi-5-11-agir-en-faveur-du-climat-et-de-l-environnement-dans-son-entreprise/2024/11/05/8460
BEGIN:VALARM
TRIGGER:-P0DT1H0M0S
ACTION:DISPLAY
END:VALARM
END:VEVENT
END:VCALENDAR